BEGIN:VCALENDAR
VERSION:2.0
PRODID:-//eventon.com NONSGML v1.0//EN
CALSCALE:GREGORIAN
METHOD:PUBLISH
BEGIN:VEVENT
UID:69eb91500b940
DTSTAMP:20260424T155040Z
DTSTART:20260426T153000Z
DTEND:20260426T235900Z
LOCATION:Ride to Rescue PXQ7+988 Ras Al-Khaimah\,  Ras Al Khaimah - United Arab Emirates
SUMMARY:Fitness Walk with Horses
DESCRIPTION:Step into a powerful outdoor experience with the Fitness Walk w
 ith Horses\,  where movement\,  nature\,  and connection come together for 
 an energizing journey. 🌿✨ Starting directly from the stables\,  partic
 ipants are invited to walk alongside a horse or take on the challenge solo\
 ,  making it a truly personal and rewarding[..]\nhttps://wow-rak.com/events
 /fitness-walk-with-horses/
URL:https://wow-rak.com/events/fitness-walk-with-horses/
END:VEVENT
END:VCALENDAR