BEGIN:VCALENDAR
VERSION:2.0
PRODID:-//eventon.com NONSGML v1.0//EN
CALSCALE:GREGORIAN
METHOD:PUBLISH
BEGIN:VEVENT
UID:69ea06f31b0ce
DTSTAMP:20260423T114803Z
DTSTART:20260425T100000Z
DTEND:20260425T180000Z
LOCATION:Sofitel Al Hamra Beach Resort Sofitel Al Hamra Beach Resort Ras Al Khaimah
SUMMARY:Lululemon Pop-Up Experience
DESCRIPTION:Step into a world of style\,  comfort\,  and movement as lulule
 mon brings its exclusive pop-up experience to the luxurious Sofitel Al Hamr
 a Beach Resort. 🌴🌊 Designed for fitness enthusiasts and lifestyle lov
 ers alike\,  this one-day event invites guests to explore the latest in pre
 mium activewear in a chic and relaxed[..]\nhttps://wow-rak.com/events/lulul
 emon-pop-up-experience/
URL:https://wow-rak.com/events/lululemon-pop-up-experience/
END:VEVENT
END:VCALENDAR