BEGIN:VCALENDAR
VERSION:2.0
PRODID:-//eventon.com NONSGML v1.0//EN
CALSCALE:GREGORIAN
METHOD:PUBLISH
BEGIN:VEVENT
UID:69ea09c680d57
DTSTAMP:20260423T120006Z
DTSTART:20260428T193000Z
DTEND:20260428T220000Z
LOCATION:Hampton by Hilton Marjan Island
SUMMARY:Ladies Night Out at CLAW BBQ RAK
DESCRIPTION:Get ready for a fun-filled evening designed just for the ladies
  as Ladies Night Out takes over CLAW BBQ! 🌴🍹 Hosted in collaboration 
 with @RAKMUMS\,  this exciting night promises great vibes\,  delicious food
 \,  and plenty of reasons to celebrate friendship and good times. Starting 
 from 7:30 PM\,  guests are invited[..]\nhttps://wow-rak.com/events/ladies-n
 ight-out-at-claw-bbq-rak/
URL:https://wow-rak.com/events/ladies-night-out-at-claw-bbq-rak/
END:VEVENT
END:VCALENDAR