BEGIN:VCALENDAR
VERSION:2.0
PRODID:-//eventon.com NONSGML v1.0//EN
CALSCALE:GREGORIAN
METHOD:PUBLISH
BEGIN:VEVENT
UID:69e8ecca0fb40
DTSTAMP:20260422T154410Z
DTSTART:20260425T180000Z
DTEND:20260425T235900Z
LOCATION:Dukes Sports Bar
SUMMARY:Dukes Final Night
DESCRIPTION:Get ready for an emotional yet unforgettable evening as Dukes S
 ports Bar hosts its Final Night\,  marking the end of a cherished chapter f
 illed with memories\,  laughter\,  and great vibes. 💫✨ This special ni
 ght is more than just an event—it’s a heartfelt farewell celebration sh
 ared with the community that made[..]\nhttps://wow-rak.com/events/dukes-fin
 al-night/
URL:https://wow-rak.com/events/dukes-final-night/
END:VEVENT
END:VCALENDAR