BEGIN:VCALENDAR
VERSION:2.0
PRODID:-//eventon.com NONSGML v1.0//EN
CALSCALE:GREGORIAN
METHOD:PUBLISH
BEGIN:VEVENT
UID:69e8cfb35184c
DTSTAMP:20260422T134003Z
DTSTART:20260424T163000Z
DTEND:20260424T235900Z
LOCATION:Aljazeerah Equestrian Club 5 21C St - Al Jazeera Al Hamra - Ras Al Khaimah - United Arab Emirates
SUMMARY:Horse Splash Day RAK
DESCRIPTION:Get ready for a magical seaside experience as Horse Splash Day 
 brings an unforgettable beach adventure designed especially for kids! 🌟
 ️ Hosted by Aljazeerah Equestrian Club\,  this unique event combines f
 un\,  creativity\,  and the joy of connecting with horses in a safe and exc
 iting environment. Children will enjoy the rare[..]\nhttps://wow-rak.com/ev
 ents/horse-splash-day-rak/
URL:https://wow-rak.com/events/horse-splash-day-rak/
END:VEVENT
END:VCALENDAR