BEGIN:VCALENDAR
VERSION:2.0
PRODID:-//eventon.com NONSGML v1.0//EN
CALSCALE:GREGORIAN
METHOD:PUBLISH
BEGIN:VEVENT
UID:69e8b6f30ee97
DTSTAMP:20260422T115427Z
DTSTART:20260424T213000Z
DTEND:20260424T235900Z
LOCATION:RIB AND HERB 18 Awafi Ave - Mina Al Arab - Ras Al Khaimah - United Arab Emirates
SUMMARY:Music Bingo Night at RIB & HERB
DESCRIPTION:Get ready for a night full of music\,  laughter\,  and good vib
 es as Music Bingo takes over RIB &amp; HERB! 🌟🎤 This exciting twist o
 n the classic bingo game combines your favourite tunes with interactive fun
 \,  making it the perfect way to kick off the weekend. Guests are invited t
 o[..]\nhttps://wow-rak.com/events/music-bingo-night-at-rib-herb/
URL:https://wow-rak.com/events/music-bingo-night-at-rib-herb/
END:VEVENT
END:VCALENDAR