BEGIN:VCALENDAR
VERSION:2.0
PRODID:-//eventon.com NONSGML v1.0//EN
CALSCALE:GREGORIAN
METHOD:PUBLISH
BEGIN:VEVENT
UID:69e8a2d61a456
DTSTAMP:20260422T102838Z
DTSTART:20260427T083000Z
DTEND:20260427T235900Z
LOCATION:Bar Du Port Beach Ras Al Khaimah PRGV+8Q4 Hayat Island - Mina Al Arab - Ras Al Khaimah - United Arab Emirates
SUMMARY:Wellness & Ladies’ Day at Bar Du Port Beach
DESCRIPTION:🌊✨ Respire à la Plage – Wellness &amp; Ladies’ Day 
 🌸 Indulge in a refreshing escape by the sea with Respire à la Plage\, 
  an exclusive ladies-only wellness experience hosted by Bar du Port Beach i
 n collaboration with Breasy. 💆‍♀️✨ Set in the serene surrounding
 s of Ras Al Khaimah\,  this[..]\nhttps://wow-rak.com/events/wellness-ladies
 -day-at-bar-du-port-beach/
URL:https://wow-rak.com/events/wellness-ladies-day-at-bar-du-port-beach/
END:VEVENT
END:VCALENDAR