BEGIN:VCALENDAR
VERSION:2.0
PRODID:-//eventon.com NONSGML v1.0//EN
CALSCALE:GREGORIAN
METHOD:PUBLISH
BEGIN:VEVENT
UID:69ea89c37778b
DTSTAMP:20260423T210611Z
DTSTART:20260501T190000Z
DTEND:20260501T235900Z
LOCATION:The Design Gallery
SUMMARY:Students Creative Reinterpretation
DESCRIPTION:Step into a world where classic masterpieces are reimagined thr
 ough fresh\,  contemporary perspectives at Students Creative Reinterpretati
 on\,  an inspiring exhibition by the History of Art and Design students of 
 the American University of Ras Al Khaimah. 🌟🖌️ Held in collaboratio
 n with The Design Gallery\,  this unique showcase brings together a[..]\nht
 tps://wow-rak.com/events/students-creative-reinterpretation/
URL:https://wow-rak.com/events/students-creative-reinterpretation/
END:VEVENT
END:VCALENDAR