BEGIN:VCALENDAR
VERSION:2.0
PRODID:-//eventon.com NONSGML v1.0//EN
CALSCALE:GREGORIAN
METHOD:PUBLISH
BEGIN:VEVENT
UID:69e8b00bb8e90
DTSTAMP:20260422T112459Z
DTSTART:20260517
DTEND:20260518
LOCATION:RAK TRACK Ras Al Khaimah
SUMMARY:IAME Summer Series UAE 2026
DESCRIPTION:Get ready for an adrenaline-filled season as the IAME Summer Se
 ries UAE 2026 returns with three thrilling rounds of high-speed karting act
 ion! 🏎️💨 Hosted at the renowned RAK Track\,  this exciting champion
 ship brings together passionate racers\,  rising talents\,  and motorsport 
 enthusiasts for an unforgettable racing experience. Designed for both compe
 titors[..]\nhttps://wow-rak.com/events/iame-summer-series-uae-2026/var/ri-1
 .l-L1
URL:https://wow-rak.com/events/iame-summer-series-uae-2026/var/ri-1.l-L1
END:VEVENT
END:VCALENDAR