BEGIN:VCALENDAR
VERSION:2.0
PRODID:-//eventon.com NONSGML v1.0//EN
CALSCALE:GREGORIAN
METHOD:PUBLISH
BEGIN:VEVENT
UID:69e6027f7ea5c
DTSTAMP:20260420T103959Z
DTSTART:20260417T180000Z
DTEND:20260417T235900Z
LOCATION:Radisson Resort Ras Al Khaimah Radisson Resort Ras Al Khaimah
SUMMARY:La Med Community Night
DESCRIPTION:🎶✨ Get ready for an unforgettable evening as La Med Bar &a
 mp; Restaurant Community Night brings together music\,  flavors\,  and vibr
 ant energy at Radisson Resort Ras Al Khaimah Marjan Island. Designed for fr
 iends\,  families\,  and social seekers\,  this lively night promises great
  vibes and non-stop entertainment by the beach. Taking[..]\nhttps://wow-rak
 .com/events/la-med-community-night/
URL:https://wow-rak.com/events/la-med-community-night/
END:VEVENT
END:VCALENDAR