BEGIN:VCALENDAR
VERSION:2.0
PRODID:-//eventon.com NONSGML v1.0//EN
CALSCALE:GREGORIAN
METHOD:PUBLISH
BEGIN:VEVENT
UID:69e6176ee99d0
DTSTAMP:20260420T120918Z
DTSTART:20260418T180000Z
DTEND:20260418T235900Z
LOCATION:RAK Mall
SUMMARY:Latte Art Workshop RAK
DESCRIPTION:☕🎨 Coffee becomes art at a special Latte Art Workshop host
 ed at RAK Mall as part of the World Art Day celebrations. This unique exper
 ience invites coffee lovers\,  creatives\,  and curious minds to discover t
 he craftsmanship behind every beautifully poured cup. Taking place on 18 Ap
 ril from 6 PM onwards\, [..]\nhttps://wow-rak.com/events/latte-art-workshop
 -rak/
URL:https://wow-rak.com/events/latte-art-workshop-rak/
END:VEVENT
END:VCALENDAR