BEGIN:VCALENDAR
VERSION:2.0
PRODID:-//eventon.com NONSGML v1.0//EN
CALSCALE:GREGORIAN
METHOD:PUBLISH
BEGIN:VEVENT
UID:69e5feb8cfe4b
DTSTAMP:20260420T102352Z
DTSTART:20260424
DTEND:20260425
LOCATION:The Cove Rotana Resort RAK
SUMMARY:Trad on the Trá
DESCRIPTION:🍀✨ A touch of Ireland arrives in Ras Al Khaimah as Trad on
  the Trá brings a lively cultural escape to the stunning The Cove Rotana R
 esort. From traditional music to family-friendly fun\,  this vibrant beachf
 ront celebration promises an unforgettable experience filled with Irish spi
 rit\,  sunshine\,  and seaside charm. From[..]\nhttps://wow-rak.com/events/
 trad-on-the-tra/
URL:https://wow-rak.com/events/trad-on-the-tra/
END:VEVENT
END:VCALENDAR