BEGIN:VCALENDAR
VERSION:2.0
PRODID:-//eventon.com NONSGML v1.0//EN
CALSCALE:GREGORIAN
METHOD:PUBLISH
BEGIN:VEVENT
UID:69ecbbccd67d3
DTSTAMP:20260425T130412Z
DTSTART:20260404T140000Z
DTEND:20260405T200000Z
LOCATION:Intercontinental Ras Al Khaimah Mina Al Arab Resort &amp; Spa Intercontinental Ras Al Khaimah Mina Al Arab Resort & Spa
SUMMARY:Easter High Tea at RAMSA Lounge
DESCRIPTION:This Easter weekend\,  RAMSA Lounge invites guests to slow down
 \,  unwind\,  and savour a beautifully curated Easter High Tea designed to 
 bring loved ones together in an atmosphere of elegance\,  comfort\,  and se
 asonal charm. 🌸💛 Taking place on Saturday\,  04 April and Sunday\,  0
 5 April\,  from 14:00 to 20:00\,  this[..]\nhttps://wow-rak.com/events/east
 er-high-tea-at-ramsa-lounge/
URL:https://wow-rak.com/events/easter-high-tea-at-ramsa-lounge/
END:VEVENT
END:VCALENDAR