BEGIN:VCALENDAR
VERSION:2.0
PRODID:-//eventon.com NONSGML v1.0//EN
CALSCALE:GREGORIAN
METHOD:PUBLISH
BEGIN:VEVENT
UID:69ecb92935679
DTSTAMP:20260425T125257Z
DTSTART:20260405T130000Z
DTEND:20260405T164000Z
LOCATION:Intercontinental Ras Al Khaimah Mina Al Arab Resort &amp; Spa Intercontinental Ras Al Khaimah Mina Al Arab Resort & Spa
SUMMARY:Easter Brunch by the Sea at LEVANT & NAR
DESCRIPTION:This Easter Sunday\,  LEVANT &amp; NAR invites families and fri
 ends to come together for a joyful seaside celebration filled with flavour\
 ,  festivity\,  and unforgettable moments. Set against the calming waves an
 d refreshing sea breeze\,  the Easter Brunch by the Sea promises a vibrant 
 afternoon of culinary indulgence and seasonal delights.[..]\nhttps://wow-ra
 k.com/events/easter-brunch-by-the-sea-at-levant-nar/
URL:https://wow-rak.com/events/easter-brunch-by-the-sea-at-levant-nar/
END:VEVENT
END:VCALENDAR