BEGIN:VCALENDAR
VERSION:2.0
PRODID:-//eventon.com NONSGML v1.0//EN
CALSCALE:GREGORIAN
METHOD:PUBLISH
BEGIN:VEVENT
UID:69e8cf89e3d29
DTSTAMP:20260422T133921Z
DTSTART:20260423T170000Z
DTEND:20260423T190000Z
LOCATION:The Bay Al Jazeera Al Hamra-Qaryat Al Hamra - Ras Al Khaimah - United Arab Emirates
SUMMARY:World Book Day at The Bay
DESCRIPTION:🌟 World Book Day at The Bay – A Magical Evening for Young 
 Readers! 📚✨ The Bay is excited to celebrate World Book Day with a fun-
 filled event designed especially for young book lovers! 🎉 On 23rd April\
 ,  from 5:00 PM to 7:00 PM\,  children are invited to step into[..]\nhttps:
 //wow-rak.com/events/world-book-day-at-the-bay/
URL:https://wow-rak.com/events/world-book-day-at-the-bay/
END:VEVENT
END:VCALENDAR