BEGIN:VCALENDAR
VERSION:2.0
PRODID:-//eventon.com NONSGML v1.0//EN
CALSCALE:GREGORIAN
METHOD:PUBLISH
BEGIN:VEVENT
UID:69e7db5d48d44
DTSTAMP:20260421T201733Z
DTSTART:20260418T203000Z
DTEND:20260418T235900Z
LOCATION:Ras Al Khaimah Cultural Development Centre
SUMMARY:From Screen to Stage
DESCRIPTION:âœ¨ðŸŽ¶ A Night of Music &amp; Memories: From Screen to Stage ð
 ŸŽ¶âœ¨ The UAE National Orchestra invites everyone to an extraordinary even
 ing where timeless melodies and cherished moments come alive. From Screen t
 o Stage is a spectacular celebration of the most iconic Emirati film and te
 levision scoresâ€”reimagined\,  revived\,  and performed[..]\nhttps://wow-r
 ak.com/events/from-screen-to-stage/
URL:https://wow-rak.com/events/from-screen-to-stage/
END:VEVENT
END:VCALENDAR