BEGIN:VCALENDAR
VERSION:2.0
PRODID:-//eventon.com NONSGML v1.0//EN
CALSCALE:GREGORIAN
METHOD:PUBLISH
BEGIN:VEVENT
UID:69e5814e2fe8a
DTSTAMP:20260420T012846Z
DTSTART:20260405T130000Z
DTEND:20260405T160000Z
LOCATION:The Bay Al Jazeera Al Hamra-Qaryat Al Hamra - Ras Al Khaimah - United Arab Emirates
SUMMARY:Easter Sunday Brunch at The Bay
DESCRIPTION:This Easter Sunday\,  The Bay at Al Hamra Golf Club invites fam
 ilies and friends to enjoy a relaxed and joy-filled Easter Brunch designed 
 for all ages. From 1:00 PM to 4:00 PM on April 5th\,  guests can savour a d
 elicious buffet-style feast\,  sip refreshing beverages\,  and soak in the 
 festive[..]\nhttps://wow-rak.com/events/easter-sunday-brunch-at-the-bay/
URL:https://wow-rak.com/events/easter-sunday-brunch-at-the-bay/
END:VEVENT
END:VCALENDAR