BEGIN:VCALENDAR
VERSION:2.0
PRODID:-//eventon.com NONSGML v1.0//EN
CALSCALE:GREGORIAN
METHOD:PUBLISH
BEGIN:VEVENT
UID:69e57ff934421
DTSTAMP:20260420T012305Z
DTSTART:20260405T130000Z
DTEND:20260405T160000Z
LOCATION:The Cove Rotana Resort RAK
SUMMARY:Easter Brunch Celebration at Basilico
DESCRIPTION:This Easter\,  Basilico invites guests to gather for a joyful a
 nd heartwarming brunch filled with flavour\,  laughter\,  and festive cheer
 . The atmosphere comes alive as families and friends indulge in a beautiful
 ly curated selection of seasonal delights\,  freshly prepared dishes\,  and
  handcrafted Easter desserts that promise to make the afternoon[..]\nhttps:
 //wow-rak.com/events/easter-brunch-celebration-at-basilico/
URL:https://wow-rak.com/events/easter-brunch-celebration-at-basilico/
END:VEVENT
END:VCALENDAR