BEGIN:VCALENDAR
VERSION:2.0
PRODID:-//eventon.com NONSGML v1.0//EN
CALSCALE:GREGORIAN
METHOD:PUBLISH
BEGIN:VEVENT
UID:69e580f0ebfe3
DTSTAMP:20260420T012712Z
DTSTART:20260405T130000Z
DTEND:20260405T160000Z
LOCATION:DoubleTree by Hilton Resort and Spa Marjan Island DoubleTree by Hilton Resort and Spa Marjan Island
SUMMARY:Book Now & Get 20% Off Islander’s Easter Brunch at DoubleTree Marjan Island
DESCRIPTION:The iconic Islander’s Brunch at DoubleTree by Hilton Resort &
 amp; Spa Marjan Island is back with a vibrant new season\,  bringing the pe
 rfect blend of flavour\,  music\,  and tropical vibes! 🌴🍹This special
  Easter Edition Brunch on 5 April 2026 promises an elevated brunch experien
 ce at the stunning Vespa &amp; Brasserie[..]\nhttps://wow-rak.com/events/is
 landers-brunch-easter-edition/
URL:https://wow-rak.com/events/islanders-brunch-easter-edition/
END:VEVENT
END:VCALENDAR