BEGIN:VCALENDAR
VERSION:2.0
PRODID:-//eventon.com NONSGML v1.0//EN
CALSCALE:GREGORIAN
METHOD:PUBLISH
BEGIN:VEVENT
UID:69e730f70c0c1
DTSTAMP:20260421T081031Z
DTSTART:20260331T200000Z
DTEND:20260331T230000Z
LOCATION:The Design Gallery
SUMMARY:Mini Vase Coloring Workshop at The DESIGN Gallery
DESCRIPTION:Step into a world of creativity and color at The DESIGN Gallery
  with their delightful Mini Vase Coloring Workshop — where imagination me
 ets artistry! 💐 Whether you&#8217;re a beginner looking to explore your 
 artistic side or simply searching for a relaxing midweek activity\,  this h
 ands-on experience is perfect for all[..]\nhttps://wow-rak.com/events/mini-
 vase-coloring-workshop-at-the-design-gallery/
URL:https://wow-rak.com/events/mini-vase-coloring-workshop-at-the-design-gallery/
END:VEVENT
END:VCALENDAR