BEGIN:VCALENDAR
VERSION:2.0
PRODID:-//eventon.com NONSGML v1.0//EN
CALSCALE:GREGORIAN
METHOD:PUBLISH
BEGIN:VEVENT
UID:69eb8b9401d56
DTSTAMP:20260424T152612Z
DTSTART:20250618T180000Z
DTEND:20250618T210000Z
LOCATION:The Ritz-Carlton Ras Al Khaimah\,  Al Hamra Beach P.O Box 4558\,  Vienna Street
SUMMARY:Ribs & Spirits Wednesdays at The Ritz-Carlton
DESCRIPTION:Get ready to spice up your midweek with an irresistible evening
  of flavour and flair! 😍 Every Wednesday\,  The Ritz-Carlton Ras Al Khai
 mah\,  Al Hamra Beach invites guests to indulge in Ribs &amp; Spirits – a
  weekly dining celebration that brings together juicy\,  unlimited smoked r
 ibs and expertly paired spirits[..]\nhttps://wow-rak.com/events/ribs-spirit
 s-wednesdays-at-the-ritz-carlton/
URL:https://wow-rak.com/events/ribs-spirits-wednesdays-at-the-ritz-carlton/
END:VEVENT
END:VCALENDAR