BEGIN:VCALENDAR
VERSION:2.0
PRODID:-//eventon.com NONSGML v1.0//EN
CALSCALE:GREGORIAN
METHOD:PUBLISH
BEGIN:VEVENT
UID:69e749fd1bca0
DTSTAMP:20260421T095717Z
DTSTART:20241213T160000Z
DTEND:20241213T180000Z
LOCATION:Al Jazirah al Hamra'
SUMMARY:Photography Workshop by Nikon Youth Program
DESCRIPTION:🌟 Lens &amp; Legacy: A Holiday Photography Workshop by Nikon
  Youth Program 📸 Get ready to capture the holiday magic! 🎄🎅✨ Whe
 ther you’re a budding photographer or just love taking pictures\,  this w
 orkshop is your chance to learn pro tips from the Nikon Youth Program while
  soaking in the festive[..]\nhttps://wow-rak.com/events/photography-worksho
 p-by-nikon-youth-program/
URL:https://wow-rak.com/events/photography-workshop-by-nikon-youth-program/
END:VEVENT
END:VCALENDAR