BEGIN:VCALENDAR
VERSION:2.0
PRODID:-//eventon.com NONSGML v1.0//EN
CALSCALE:GREGORIAN
METHOD:PUBLISH
BEGIN:VEVENT
UID:69e582b01a45c
DTSTAMP:20260420T013440Z
DTSTART:20230902T090000Z
DTEND:20230902T120000Z
LOCATION:Al Hamra Village Jazirah Al Hamra\,  RaʼS Al Khaymah\,  United Arab Emirates
SUMMARY:Beach BBQ Brunch at Clubhouse
DESCRIPTION:Get ready for a sizzling sensation at the Clubhouse Beach BBQ B
 runch! 🌴🍖 Date: Every Saturday Time: 1 pm &#8211; 4 pm Indulge in mou
 thwatering delights hot off our live BBQ grill\,  perfectly paired with 3 h
 ours of free-flowing house drinks\,  all for just AED 199. Savor the flavor
 s of[..]\nhttps://wow-rak.com/events/beach-bbq-brunch-at-clubhouse/
URL:https://wow-rak.com/events/beach-bbq-brunch-at-clubhouse/
END:VEVENT
END:VCALENDAR