BEGIN:VCALENDAR
VERSION:2.0
PRODID:-//eventon.com NONSGML v1.0//EN
CALSCALE:GREGORIAN
METHOD:PUBLISH
BEGIN:VEVENT
UID:69e5ee8b450a6
DTSTAMP:20260420T091451Z
DTSTART:20230725T150000Z
DTEND:20230725T170000Z
LOCATION:Al Hamra Golf Club Al Hamra Golf Club Ras Al Khaimah
SUMMARY:Tuesday Social Padel
DESCRIPTION:On Tuesdays\,  participate in our Social Padel Evening from 7 P
 M to 9 PM. This two-hour session is perfect for both experienced players an
 d beginners who want to socialize and engage in friendly competition. Rate 
 is AED 60 per person including a house beverage. Location &#8211; Sports Hu
 b of Ras[..]\nhttps://wow-rak.com/events/tuesday-social-padel/var/ri-2.l-L1
URL:https://wow-rak.com/events/tuesday-social-padel/var/ri-2.l-L1
END:VEVENT
END:VCALENDAR