BEGIN:VCALENDAR
VERSION:2.0
PRODID:-//eventon.com NONSGML v1.0//EN
CALSCALE:GREGORIAN
METHOD:PUBLISH
BEGIN:VEVENT
UID:69e4c6c9c2565
DTSTAMP:20260419T121257Z
DTSTART:20230613T130000Z
DTEND:20230613T150000Z
LOCATION:Radisson Resort Ras Al Khaimah Radisson Resort Ras Al Khaimah
SUMMARY:Happy Hours on The Sand
DESCRIPTION:As the sun sets\,  dress down and join us for daily happy hours
  on the shores of Al Marjan Island. Enjoy the Ula Bar as you swing in for h
 alf price drinks from 5 pm to 7 pm every day. Price: 50% on all house bever
 ages Timings: Everyday from 5pm[..]\nhttps://wow-rak.com/events/happy-hours
 -on-the-sand/
URL:https://wow-rak.com/events/happy-hours-on-the-sand/
END:VEVENT
END:VCALENDAR