BEGIN:VCALENDAR
VERSION:2.0
PRODID:-//eventon.com NONSGML v1.0//EN
CALSCALE:GREGORIAN
METHOD:PUBLISH
BEGIN:VEVENT
UID:69e7de0f8ab57
DTSTAMP:20260421T202903Z
DTSTART:20220816T150000Z
DTEND:20220816T180000Z
LOCATION:Fly Zone UAE RAK Corniche
SUMMARY:Ladies Night at Fly Zone
DESCRIPTION:Each Tuesday from 7:00 PM – 10:00 PM. Enjoy a special night w
 ith full privacy\,  a unique program designed for ladies’ fitness for the
  great moments you deserve! About Fly zone\nhttps://wow-rak.com/events/ladi
 es-night-36/
URL:https://wow-rak.com/events/ladies-night-36/
END:VEVENT
END:VCALENDAR